BEGIN:VCALENDAR
VERSION:2.0
PRODID:-//ChamberMaster//Event Calendar 2.0//EN
METHOD:PUBLISH
X-PUBLISHED-TTL:P3D
REFRESH-INTERVAL:P3D
CALSCALE:GREGORIAN
BEGIN:VEVENT
DTSTART:20160311T180000Z
DTEND:20160311T190000Z
X-MICROSOFT-CDO-ALLDAYEVENT:FALSE
SUMMARY:Community Enhancement Committee March 2016
DESCRIPTION:Topic:  Riverfront Development\n\nSpeaker:  Matt Salvatore\n\nUpdates from Downtown Partners\, Farmers Market\, Trails/Bike paths
X-ALT-DESC;FMTTYPE=text/html:Topic: &nbsp\;Riverfront Development<br />\nSpeaker: &nbsp\;Matt Salvatore<br />\nUpdates from Downtown Partners\, Farmers Market\, Trails/Bike paths
LOCATION:Chamber of Commerce Lower Level Board Room Bring your own lunch.
UID:e.769.838
SEQUENCE:3
DTSTAMP:20260421T201455Z
URL:https://directory.siouxlandchamber.com/events/details/community-enhancement-committee-march-2016-03-11-2016-838
END:VEVENT

END:VCALENDAR
