BEGIN:VCALENDAR
VERSION:2.0
PRODID:-//ChamberMaster//Event Calendar 2.0//EN
METHOD:PUBLISH
X-PUBLISHED-TTL:P3D
REFRESH-INTERVAL:P3D
CALSCALE:GREGORIAN
BEGIN:VEVENT
DTSTART:20160212T180000Z
DTEND:20160212T190000Z
X-MICROSOFT-CDO-ALLDAYEVENT:FALSE
SUMMARY:Community Enhancement Committee Feb 2016
DESCRIPTION:A Siouxland Renaissance presented by Todd Moss\, AIA\, Cannon Moss Brygger Architects\n\nCommunity Updates
X-ALT-DESC;FMTTYPE=text/html:A Siouxland Renaissance presented by Todd Moss\, AIA\, Cannon Moss Brygger&nbsp\;Architects<br />\nCommunity Updates
LOCATION:Chamber of Commerce Lower Level Board Room Bring your own lunch.
UID:e.769.837
SEQUENCE:3
DTSTAMP:20260421T184909Z
URL:https://directory.siouxlandchamber.com/events/details/community-enhancement-committee-feb-2016-02-12-2016-837
END:VEVENT

END:VCALENDAR
