BEGIN:VCALENDAR
VERSION:2.0
PRODID:-//ChamberMaster//Event Calendar 2.0//EN
METHOD:PUBLISH
X-PUBLISHED-TTL:P3D
REFRESH-INTERVAL:P3D
CALSCALE:GREGORIAN
BEGIN:VEVENT
DTSTART:20151113T180000Z
DTEND:20151113T190000Z
X-MICROSOFT-CDO-ALLDAYEVENT:FALSE
SUMMARY:Community Enhancement Committee
DESCRIPTION:Hard Hat Tour of Children's Museum of Siouxland\n\nConducted by Museum Director Bob Fitch\n\nMeet in museum parking lot at 12:00 pm
X-ALT-DESC;FMTTYPE=text/html:Hard Hat Tour of Children&#39\;s Museum of Siouxland<br />\nConducted by Museum Director Bob Fitch<br />\nMeet in museum parking lot at 12:00 pm<br />\n&nbsp\;
LOCATION:
UID:e.769.834
SEQUENCE:3
DTSTAMP:20260421T132325Z
URL:https://directory.siouxlandchamber.com/events/details/community-enhancement-committee-11-13-2015-834
END:VEVENT

END:VCALENDAR
