BEGIN:VCALENDAR
VERSION:2.0
PRODID:-//ChamberMaster//Event Calendar 2.0//EN
METHOD:PUBLISH
X-PUBLISHED-TTL:P3D
REFRESH-INTERVAL:P3D
CALSCALE:GREGORIAN
BEGIN:VEVENT
DTSTART:20150911T170000Z
DTEND:20150911T180000Z
X-MICROSOFT-CDO-ALLDAYEVENT:FALSE
SUMMARY:Community Enhancement Committee
DESCRIPTION:Community Updates\n\nCommunity Enhancement Program - Main Street/Downtown In-Depth Update\n\nPresented by Ragen Cote\, Executive Director\, Downtown Partners
X-ALT-DESC;FMTTYPE=text/html:Community Updates<br />\nCommunity Enhancement Program - Main Street/Downtown In-Depth Update<br />\nPresented by Ragen Cote\, Executive Director\, Downtown Partners<br />\n<br />\n&nbsp\;
LOCATION:Chamber of Commerce Lower Level Board Room Bring your own lunch.
UID:e.769.832
SEQUENCE:3
DTSTAMP:20260421T131211Z
URL:https://directory.siouxlandchamber.com/events/details/community-enhancement-committee-09-11-2015-832
END:VEVENT

END:VCALENDAR
