BEGIN:VCALENDAR
VERSION:2.0
PRODID:-//ChamberMaster//Event Calendar 2.0//EN
METHOD:PUBLISH
X-PUBLISHED-TTL:P3D
REFRESH-INTERVAL:P3D
CALSCALE:GREGORIAN
BEGIN:VEVENT
DTSTART:20150814T170000Z
DTEND:20150814T180000Z
X-MICROSOFT-CDO-ALLDAYEVENT:FALSE
SUMMARY:Community Enhancement Committee
DESCRIPTION:Program - Miracle Field \n\nPresented by Kevin Negaard\n\n\n\nUpdates on Downtown\, Farmers Market\, Fridays on the Promenade\, Recycling\,Yard of the Month
X-ALT-DESC;FMTTYPE=text/html:Program - Miracle Field&nbsp\;<br />\nPresented by Kevin Negaard<br />\n<br />\nUpdates on Downtown\, Farmers Market\, Fridays on the Promenade\, Recycling\,Yard of the Month
LOCATION:Chamber of Commerce Lower Level Board Room Bring your own lunch.
UID:e.769.831
SEQUENCE:3
DTSTAMP:20260421T131145Z
URL:https://directory.siouxlandchamber.com/events/details/community-enhancement-committee-08-14-2015-831
END:VEVENT

END:VCALENDAR
