BEGIN:VCALENDAR
VERSION:2.0
PRODID:-//ChamberMaster//Event Calendar 2.0//EN
METHOD:PUBLISH
X-PUBLISHED-TTL:P3D
REFRESH-INTERVAL:P3D
CALSCALE:GREGORIAN
BEGIN:VEVENT
DTSTART:20150612T170000Z
DTEND:20150612T180000Z
X-MICROSOFT-CDO-ALLDAYEVENT:FALSE
SUMMARY:Community Enhancement Committee
DESCRIPTION:Program - RAGBRAI\n\nPresenter - Kari Kellen and Melissa Lanzourakis\n\n\n\nUpdates on City-Wide Cleanup\, Downtown Partners\, Farmers Market\, Fridays on the Promenade\, Yard of the Month
X-ALT-DESC;FMTTYPE=text/html:Program - RAGBRAI<br />\nPresenter - Kari Kellen and Melissa Lanzourakis<br />\n<br />\nUpdates on City-Wide Cleanup\,&nbsp\;Downtown Partners\, Farmers Market\, Fridays on the Promenade\, Yard of the Month
LOCATION:Chamber of Commerce Lower Level Board Room Bring your own lunch.
UID:e.769.829
SEQUENCE:3
DTSTAMP:20260421T174056Z
URL:https://directory.siouxlandchamber.com/events/details/community-enhancement-committee-06-12-2015-829
END:VEVENT

END:VCALENDAR
