BEGIN:VCALENDAR
VERSION:2.0
PRODID:-//ChamberMaster//Event Calendar 2.0//EN
METHOD:PUBLISH
X-PUBLISHED-TTL:P3D
REFRESH-INTERVAL:P3D
CALSCALE:GREGORIAN
BEGIN:VEVENT
DTSTART:20150508T170000Z
DTEND:20150508T180000Z
X-MICROSOFT-CDO-ALLDAYEVENT:FALSE
SUMMARY:Community Enhancement Committee
DESCRIPTION:Program - Iowa Initiative for Sustainable Communities\n\nPresenters - Charlie Cowell & Chris Madsen -  City of Sioux City\, and Michelle Bostinelos\, SIMPCO\n\n\n\nUpdates on Bike to Work Day\, RAGBRAI\, Downtown Partners\, Farmers Market\, Fridays on the Promenade
X-ALT-DESC;FMTTYPE=text/html:Program - Iowa Initiative for Sustainable Communities<br />\nPresenters - Charlie Cowell &amp\; Chris Madsen -&nbsp\;&nbsp\;City of Sioux City\, and Michelle Bostinelos\, SIMPCO<br />\n<br />\nUpdates on Bike to Work Day\, RAGBRAI\, Downtown Partners\, Farmers Market\, Fridays on the Promenade
LOCATION:Chamber of Commerce Lower Level Board Room Bring your own lunch.
UID:e.769.828
SEQUENCE:3
DTSTAMP:20260421T174057Z
URL:https://directory.siouxlandchamber.com/events/details/community-enhancement-committee-05-08-2015-828
END:VEVENT

END:VCALENDAR
