BEGIN:VCALENDAR
VERSION:2.0
PRODID:-//ChamberMaster//Event Calendar 2.0//EN
METHOD:PUBLISH
X-PUBLISHED-TTL:P3D
REFRESH-INTERVAL:P3D
CALSCALE:GREGORIAN
BEGIN:VEVENT
DTSTART:20150410T170000Z
DTEND:20150410T180000Z
X-MICROSOFT-CDO-ALLDAYEVENT:FALSE
SUMMARY:Community Enhancement Committee
DESCRIPTION:Cone Park Report - presented by Craig Berenstein\n\nMeet Matt Salvatore\, Parks & Rec Director for City of Sioux City\n\n\n\nUpdates on:\n\n	Sustainable Communities\n	RAGBRAI\n	Downtown Partners\n	Farmers Market\n	Fridays on the Promenade
X-ALT-DESC;FMTTYPE=text/html:Cone Park Report - presented by Craig Berenstein<br />\nMeet Matt Salvatore\, Parks &amp\; Rec Director for City of Sioux City<br />\n<br />\nUpdates on:\n<ul>\n	<li>Sustainable Communities</li>\n	<li>RAGBRAI</li>\n	<li>Downtown Partners</li>\n	<li>Farmers Market</li>\n	<li>Fridays on the Promenade</li>\n</ul>\n
LOCATION:Chamber of Commerce Lower Level Board Room Bring your own lunch.
UID:e.769.827
SEQUENCE:3
DTSTAMP:20260421T201429Z
URL:https://directory.siouxlandchamber.com/events/details/community-enhancement-committee-04-10-2015-827
END:VEVENT

END:VCALENDAR
