BEGIN:VCALENDAR
VERSION:2.0
PRODID:-//ChamberMaster//Event Calendar 2.0//EN
METHOD:PUBLISH
X-PUBLISHED-TTL:P3D
REFRESH-INTERVAL:P3D
CALSCALE:GREGORIAN
BEGIN:VEVENT
DTSTART:20150313T170000Z
DTEND:20150313T180000Z
X-MICROSOFT-CDO-ALLDAYEVENT:FALSE
SUMMARY:Community Enhancement Committee
DESCRIPTION:Jackson Pollock Mural presentation by Sioux City Art Center Director Al Harris-Fernandez and Curator Todd Behrens.\n\nThe Mural will be leaving Sioux City in April\, so this is a great opportunity to visit it before it moves on to Venice\, Italy!\n\nPlease RSVP to mkoster@siouxlandchamber.com
X-ALT-DESC;FMTTYPE=text/html:Jackson Pollock <em>Mural </em>presentation by Sioux City Art Center Director Al Harris-Fernandez and Curator Todd Behrens.<br />\nThe <em>Mural</em> will be leaving Sioux City in April\, so this is a great opportunity to visit it before it moves on to Venice\, Italy!<br />\nPlease RSVP to mkoster@siouxlandchamber.com<br />\n&nbsp\;
LOCATION:Sioux City Art Center 225 Nebraska Street Sioux City\, Iowa
UID:e.769.826
SEQUENCE:3
DTSTAMP:20260421T214552Z
URL:https://directory.siouxlandchamber.com/events/details/community-enhancement-committee-03-13-2015-826
END:VEVENT

END:VCALENDAR
