BEGIN:VCALENDAR
VERSION:2.0
PRODID:-//ChamberMaster//Event Calendar 2.0//EN
METHOD:PUBLISH
X-PUBLISHED-TTL:P3D
REFRESH-INTERVAL:P3D
CALSCALE:GREGORIAN
BEGIN:VEVENT
DTSTART:20150213T180000Z
DTEND:20150213T190000Z
X-MICROSOFT-CDO-ALLDAYEVENT:FALSE
SUMMARY:Community Enhancement Committee
DESCRIPTION:Dakin Schultz will present information on the Interstate 29 construction as well as other road construction here in Sioux City.\n\n\n\nUpdates on Sustainable Communities\, Downtown Partners\, Farmers Market
X-ALT-DESC;FMTTYPE=text/html:Dakin Schultz will present information on the Interstate 29 construction as well as other road construction here in Sioux City.<br />\n<br />\n<span style="color:#1F497D\;">Updates on Sustainable Communities\, Downtown Partners\, Farmers Market</span>
LOCATION:Chamber of Commerce Lower Level Board Room Bring your own lunch.
UID:e.769.825
SEQUENCE:3
DTSTAMP:20260421T231101Z
URL:https://directory.siouxlandchamber.com/events/details/community-enhancement-committee-02-13-2015-825
END:VEVENT

END:VCALENDAR
