BEGIN:VCALENDAR
VERSION:2.0
PRODID:-//ChamberMaster//Event Calendar 2.0//EN
METHOD:PUBLISH
X-PUBLISHED-TTL:P3D
REFRESH-INTERVAL:P3D
CALSCALE:GREGORIAN
BEGIN:VEVENT
DTSTART:20150109T180000Z
DTEND:20150109T190000Z
X-MICROSOFT-CDO-ALLDAYEVENT:FALSE
SUMMARY:Community Enhancement Committee
DESCRIPTION:Meet Matt Salvatore\, Parks & Recreation Director for the City of Sioux City\n\nMatt will share ideas and plans he has for the Parks & Rec Department\n\nUpdates on Sustainable Communities\, Downtown Partners\, Farmers Market
X-ALT-DESC;FMTTYPE=text/html:Meet Matt Salvatore\, Parks &amp\; Recreation Director for the City of Sioux City<br />\nMatt will share ideas and plans he has for the Parks &amp\; Rec Department<br />\nUpdates on Sustainable Communities\, Downtown Partners\, Farmers Market
LOCATION:Chamber of Commerce Lower Level Board Room Bring your own lunch.
UID:e.769.824
SEQUENCE:3
DTSTAMP:20260422T003610Z
URL:https://directory.siouxlandchamber.com/events/details/community-enhancement-committee-01-09-2015-824
END:VEVENT

END:VCALENDAR
