BEGIN:VCALENDAR
VERSION:2.0
PRODID:-//ChamberMaster//Event Calendar 2.0//EN
METHOD:PUBLISH
X-PUBLISHED-TTL:P3D
REFRESH-INTERVAL:P3D
CALSCALE:GREGORIAN
BEGIN:VEVENT
DTSTART:20160108T180000Z
DTEND:20160108T190000Z
X-MICROSOFT-CDO-ALLDAYEVENT:FALSE
SUMMARY:Community Enhancement Committee
DESCRIPTION:Historic Pearl District\, Then & Now\n\nPresented by Jill Wanderscheid\, City of Sioux City
X-ALT-DESC;FMTTYPE=text/html:Historic Pearl District\, Then &amp\; Now<br />\nPresented by Jill Wanderscheid\, City of Sioux City
LOCATION:Noon Chamber of Commerce Lower Level Board Room Bring your own lunch.
UID:e.769.836
SEQUENCE:3
DTSTAMP:20260421T172401Z
URL:https://directory.siouxlandchamber.com/events/details/community-enhancement-committee-01-08-2016-836
END:VEVENT

END:VCALENDAR
