BEGIN:VCALENDAR
VERSION:2.0
PRODID:-//ChamberMaster//Event Calendar 2.0//EN
METHOD:PUBLISH
X-PUBLISHED-TTL:P3D
REFRESH-INTERVAL:P3D
CALSCALE:GREGORIAN
BEGIN:VEVENT
DTSTART:20180413T170000Z
DTEND:20180413T180000Z
X-MICROSOFT-CDO-ALLDAYEVENT:FALSE
SUMMARY:Community Enhancement - April 2018
DESCRIPTION:Guest Presenter:  Jeff Carlson with We Got Next Foundation will discuss the foundation's mission and plans for a new multi-sport facility in the former stockyards area.
X-ALT-DESC;FMTTYPE=text/html:Guest Presenter:&nbsp\; Jeff Carlson with We Got Next Foundation&nbsp\;will discuss the foundation&#39\;s mission and plans for a&nbsp\;new multi-sport facility in the former stockyards area.
LOCATION:Siouxland Chamber of Commerce Lower Level Board Room Bring your own lunch Beverages provided
UID:e.769.4683
SEQUENCE:3
DTSTAMP:20260420T145713Z
URL:https://directory.siouxlandchamber.com/events/details/community-enhancement-april-2018-4683
END:VEVENT

END:VCALENDAR
