BEGIN:VCALENDAR
VERSION:2.0
PRODID:-//ChamberMaster//Event Calendar 2.0//EN
METHOD:PUBLISH
X-PUBLISHED-TTL:P3D
REFRESH-INTERVAL:P3D
CALSCALE:GREGORIAN
BEGIN:VEVENT
DTSTART:20160513T170000Z
DTEND:20160513T180000Z
X-MICROSOFT-CDO-ALLDAYEVENT:FALSE
SUMMARY:Community Enhancement April 15 2016
DESCRIPTION:Program:  U of I Study Report on Downtown Greenspace\n\nPresented by SIMPCO\, Michelle Bostinelos
X-ALT-DESC;FMTTYPE=text/html:Program: &nbsp\;U of I Study Report on Downtown Greenspace<br />\nPresented by SIMPCO\, Michelle Bostinelos
LOCATION:Siouxland Chamber of Commerce Lower Level Board Room Bring your own lunch. Beverages will be served.
UID:e.769.3226
SEQUENCE:3
DTSTAMP:20260421T185512Z
URL:https://directory.siouxlandchamber.com/events/details/community-enhancement-april-15-2016-05-13-2016-3226
END:VEVENT

END:VCALENDAR
