BEGIN:VCALENDAR
VERSION:2.0
PRODID:-//ChamberMaster//Event Calendar 2.0//EN
METHOD:PUBLISH
X-PUBLISHED-TTL:P3D
REFRESH-INTERVAL:P3D
CALSCALE:GREGORIAN
BEGIN:VEVENT
DTSTART:20160415T170000Z
DTEND:20160415T180000Z
X-MICROSOFT-CDO-ALLDAYEVENT:FALSE
SUMMARY:Community Enhancement April 15 2016
DESCRIPTION:Program:  2016 Construction Season Update Report\n\nPresenter:  Dakin Schultz\, IDOT\n\nUpdates:  Downtown Partners\, Farmers Market\, Fridays on the Promenade\, Trails/Bike Paths\, Preservation Week\, Yard of the Month\, Sioux City Re-Event and City-Wide Cleanup
X-ALT-DESC;FMTTYPE=text/html:<font face="calibri" size="3"><span style="line-height: 25.6px\;">Program: &nbsp\;2016 Construction Season Update Report<br />\nPresenter: &nbsp\;Dakin Schultz\, IDOT<br />\nUpdates: &nbsp\;Downtown Partners\, Farmers Market\, Fridays on the Promenade\, Trails/Bike Paths\, Preservation Week\, Yard of the Month\, Sioux City Re-Event and City-Wide Cleanup</span></font>
LOCATION:Siouxland Chamber of Commerce Lower Level Board Room Bring your own lunch.
UID:e.769.2207
SEQUENCE:3
DTSTAMP:20260421T202328Z
URL:https://directory.siouxlandchamber.com/events/details/community-enhancement-april-15-2016-04-15-2016-2207
END:VEVENT

END:VCALENDAR
