BEGIN:VCALENDAR
VERSION:2.0
PRODID:-//ChamberMaster//Event Calendar 2.0//EN
METHOD:PUBLISH
X-PUBLISHED-TTL:P3D
REFRESH-INTERVAL:P3D
CALSCALE:GREGORIAN
BEGIN:VEVENT
DTSTART:20150109T140000Z
DTEND:20150109T150000Z
X-MICROSOFT-CDO-ALLDAYEVENT:FALSE
SUMMARY:Chamber Legislative Forum
DESCRIPTION:Join us for the annual Chamber legislative forum featuring members of the Siouxland legislative delegation. Legislators will be on hand to discuss their agendas going into the 2015 session and their perspectives on how the session will unfold. NOTE: 8:00am start time for this meeting.
X-ALT-DESC;FMTTYPE=text/html:<ol>\n	<li><span style="color:windowtext\;"><span style="font-family:newbaskervilleitctt\;"><span style="font-size:11.0pt\;">Join us for the annual Chamber legislative forum featuring members of the Siouxland legislative delegation. Legislators will be on hand to discuss their agendas going into the 2015 session and their perspectives on how the session will unfold. NOTE: 8:00am start time for this meeting.</span></span></span></li>\n</ol>\n
LOCATION:Siouxland Chamber of Commerce 101 Pierce Street\, Sioux City\, IA
UID:e.769.2076
SEQUENCE:3
DTSTAMP:20260422T003356Z
URL:https://directory.siouxlandchamber.com/events/details/chamber-legislative-forum-01-09-2015-2076
END:VEVENT

END:VCALENDAR
