BEGIN:VCALENDAR
VERSION:2.0
PRODID:-//ChamberMaster//Event Calendar 2.0//EN
METHOD:PUBLISH
X-PUBLISHED-TTL:P3D
REFRESH-INTERVAL:P3D
CALSCALE:GREGORIAN
BEGIN:VEVENT
DTSTART:20150423T213000Z
DTEND:20150423T233000Z
X-MICROSOFT-CDO-ALLDAYEVENT:FALSE
SUMMARY:Chamber Business After Hours hosted by Mercy Medical Center
DESCRIPTION:Mercy Medical Center is turning 125 and you're invited to the celebration. Join your Chamber friends at Mercy Medical Center for a quasquicentennial celebration 125 years in the making!\n\n\n\n Tell us if you're coming and share with your friends via our Facebook page!
X-ALT-DESC;FMTTYPE=text/html:Mercy Medical Center is turning 125 and you&#39\;re invited to the celebration. Join your Chamber friends at Mercy Medical Center for a quasquicentennial&nbsp\;celebration 125 years in the making!<br />\n<br />\n<span style="line-height: 20.7999992370605px\;"><em>&#8203\;Tell us if you&#39\;re coming and share with your friends via our</em>&nbsp\;</span><a href="https://www.facebook.com/events/443658402470574/"><span style="color:#0000FF\;">Facebook page</span></a>!
LOCATION:Mercy Medical Center South Lobby 801 5th Street Sioux City
UID:e.769.2103
SEQUENCE:3
DTSTAMP:20260421T185947Z
URL:https://directory.siouxlandchamber.com/events/details/chamber-business-after-hours-hosted-by-mercy-medical-center-04-23-2015-2103
END:VEVENT

END:VCALENDAR
