BEGIN:VCALENDAR
VERSION:2.0
PRODID:-//ChamberMaster//Event Calendar 2.0//EN
METHOD:PUBLISH
X-PUBLISHED-TTL:P3D
REFRESH-INTERVAL:P3D
CALSCALE:GREGORIAN
BEGIN:VEVENT
DTSTART:20200218T180000Z
DTEND:20200218T190000Z
X-MICROSOFT-CDO-ALLDAYEVENT:FALSE
SUMMARY:Chamber 101 - Pizza with the Pres
DESCRIPTION:Enjoy lunch (pizza is Chris' favorite!) and learn more about the Siouxland Chamber of Commerce! Learn how to utilize your Chamber benefits and meet other members.
X-ALT-DESC;FMTTYPE=text/html:Enjoy lunch (pizza is Chris&#39\; favorite!) and learn more about the Siouxland Chamber of Commerce! Learn how to utilize your Chamber benefits and meet other members.&nbsp\;&nbsp\;&nbsp\;&nbsp\;
LOCATION:Siouxland Chamber of Commerce 101 Pierce Street (lower level) Parking available at the Tyson Events Center
UID:e.769.5271
SEQUENCE:3
DTSTAMP:20260421T224352Z
URL:https://directory.siouxlandchamber.com/events/details/chamber-101-pizza-with-the-pres-5271
END:VEVENT

END:VCALENDAR
