BEGIN:VCALENDAR
VERSION:2.0
PRODID:-//ChamberMaster//Event Calendar 2.0//EN
METHOD:PUBLISH
X-PUBLISHED-TTL:P3D
REFRESH-INTERVAL:P3D
CALSCALE:GREGORIAN
BEGIN:VEVENT
DTSTART:20160210T180000Z
DTEND:20160210T190000Z
X-MICROSOFT-CDO-ALLDAYEVENT:FALSE
SUMMARY:Chamber 101: How to Maximize Your Chamber Benefits
DESCRIPTION:Are you interested in learning how to get the most out of your membership or are you curious as to what the Siouxland Chamber of Commerce can do for your business?  Join us at the Siouxland Chamber of Commerce office to learn about the programs\, benefits and services that are available to Chamber members.\n\n\n\nWhether you are a brand new member\, a longtime member or just want to learn more about membership this is the event for you!\n\n\n\nNot a member? If you're a business large or small in the Siouxland area you should be! Join Now to enjoy all of the benefits only a Siouxland Chamber membership can offer.
X-ALT-DESC;FMTTYPE=text/html:<p>Are you interested in learning how to get the most out of your membership or are you curious as to what the Siouxland Chamber of Commerce can do for your business? &nbsp\;Join us at the Siouxland Chamber of Commerce office to learn about the programs\, benefits and services that are available to Chamber members.<br />\n<br />\nWhether you are a brand new member\, a longtime member or just want to learn more about membership this is the event for you!<br />\n<br />\nNot a member? If you&#39\;re a business large or small in the Siouxland&nbsp\;area you should be! <a href="http://directory.siouxlandchamber.com/member/newmemberapp/"><span style="color: rgb(0\, 0\, 255)\;">Join Now</span></a> to enjoy&nbsp\;all of the benefits only a Siouxland Chamber membership can offer.</p>\n
LOCATION:Siouxland Chamber of Commerce 101 Pierce Street
UID:e.769.2060
SEQUENCE:3
DTSTAMP:20260421T174320Z
URL:https://directory.siouxlandchamber.com/events/details/chamber-101-how-to-maximize-your-chamber-benefits-02-10-2016-2060
END:VEVENT

END:VCALENDAR
