BEGIN:VCALENDAR
VERSION:2.0
PRODID:-//ChamberMaster//Event Calendar 2.0//EN
METHOD:PUBLISH
X-PUBLISHED-TTL:P3D
REFRESH-INTERVAL:P3D
CALSCALE:GREGORIAN
BEGIN:VEVENT
DTSTART:20161130T220000Z
DTEND:20161130T223000Z
X-MICROSOFT-CDO-ALLDAYEVENT:FALSE
SUMMARY:CANCELLED\, Ribbon Cutting - Capelli Blowout Bar
DESCRIPTION:This ribbon cutting has been postponed to a later date yet to be determined.  Thank you.
X-ALT-DESC;FMTTYPE=text/html:This ribbon cutting has been postponed to a later date yet to be determined. &nbsp\;Thank you.<br />\n<br />\n&nbsp\;
LOCATION:523 4th Street Sioux City
UID:e.769.3413
SEQUENCE:3
DTSTAMP:20260419T151706Z
URL:https://directory.siouxlandchamber.com/events/details/cancelled-ribbon-cutting-capelli-blowout-bar-3413
END:VEVENT

END:VCALENDAR
