BEGIN:VCALENDAR
VERSION:2.0
PRODID:-//ChamberMaster//Event Calendar 2.0//EN
METHOD:PUBLISH
X-PUBLISHED-TTL:P3D
REFRESH-INTERVAL:P3D
CALSCALE:GREGORIAN
BEGIN:VEVENT
DTSTART:20160210T160000Z
DTEND:20160210T170000Z
X-MICROSOFT-CDO-ALLDAYEVENT:FALSE
SUMMARY:Cake Cutting - Norm Waitt Sr. YMCA
DESCRIPTION:The Norm Waitt Sr. YMCA is 130 years old!  Please join us for a cake cutting and open house to congratulate them on their many years of service to Siouxland!
X-ALT-DESC;FMTTYPE=text/html:The Norm Waitt Sr. YMCA is 130 years old! &nbsp\;Please join us for a cake cutting and open house&nbsp\;to congratulate them on their many years of service to Siouxland!
LOCATION:601 Riverview Drive South Sioux City
UID:e.769.3214
SEQUENCE:3
DTSTAMP:20260421T184434Z
URL:https://directory.siouxlandchamber.com/events/details/cake-cutting-norm-waitt-sr-ymca-02-10-2016-3214
END:VEVENT

END:VCALENDAR
