BEGIN:VCALENDAR
VERSION:2.0
PRODID:-//ChamberMaster//Event Calendar 2.0//EN
METHOD:PUBLISH
X-PUBLISHED-TTL:P3D
REFRESH-INTERVAL:P3D
CALSCALE:GREGORIAN
BEGIN:VEVENT
DTSTART:20150115T223000Z
DTEND:20150116T003000Z
X-MICROSOFT-CDO-ALLDAYEVENT:FALSE
SUMMARY:Business After Hours hosted by Wells Enterprises
DESCRIPTION:
X-ALT-DESC;FMTTYPE=text/html:
LOCATION:
UID:e.769.989
SEQUENCE:3
DTSTAMP:20260422T003852Z
URL:https://directory.siouxlandchamber.com/events/details/business-after-hours-hosted-by-wells-enterprises-01-15-2015-989
END:VEVENT

END:VCALENDAR
