BEGIN:VCALENDAR
VERSION:2.0
PRODID:-//ChamberMaster//Event Calendar 2.0//EN
METHOD:PUBLISH
X-PUBLISHED-TTL:P3D
REFRESH-INTERVAL:P3D
CALSCALE:GREGORIAN
BEGIN:VEVENT
DTSTART:20150521T213000Z
DTEND:20150521T233000Z
X-MICROSOFT-CDO-ALLDAYEVENT:FALSE
SUMMARY:Business After Hours hosted by Rasmussen Mechanical Services
DESCRIPTION:Chamber Business After House hosted by Rasmussen Mechanical Services
X-ALT-DESC;FMTTYPE=text/html:Chamber Business After House hosted by Rasmussen Mechanical Services
LOCATION:Rasmussen Mechanical Services 2425 4th Street Sioux City\, IA
UID:e.769.992
SEQUENCE:3
DTSTAMP:20260421T174153Z
URL:https://directory.siouxlandchamber.com/events/details/business-after-hours-hosted-by-rasmussen-mechanical-services-05-21-2015-992
END:VEVENT

END:VCALENDAR
