BEGIN:VCALENDAR
VERSION:2.0
PRODID:-//ChamberMaster//Event Calendar 2.0//EN
METHOD:PUBLISH
X-PUBLISHED-TTL:P3D
REFRESH-INTERVAL:P3D
CALSCALE:GREGORIAN
BEGIN:VEVENT
DTSTART:20150223T223000Z
DTEND:20150224T003000Z
X-MICROSOFT-CDO-ALLDAYEVENT:FALSE
SUMMARY:Business After Hours hosted by Briar Cliff/Entrepalooza
DESCRIPTION:MONDAY Business After Hours. Briar Cliff University is hosting the kick off of ENTREPALOOZA week and the Chamber Business After Hours is excited to be a part of it.
X-ALT-DESC;FMTTYPE=text/html:MONDAY Business After Hours. Briar Cliff University is hosting the kick off of ENTREPALOOZA week and the Chamber Business After Hours is excited to be a part of it.
LOCATION:Heelan Hall Atrium at Briar Cliff University.
UID:e.769.2080
SEQUENCE:3
DTSTAMP:20260421T231516Z
URL:https://directory.siouxlandchamber.com/events/details/business-after-hours-hosted-by-briar-cliff-entrepalooza-02-23-2015-2080
END:VEVENT

END:VCALENDAR
