BEGIN:VCALENDAR
VERSION:2.0
PRODID:-//ChamberMaster//Event Calendar 2.0//EN
METHOD:PUBLISH
X-PUBLISHED-TTL:P3D
REFRESH-INTERVAL:P3D
CALSCALE:GREGORIAN
BEGIN:VEVENT
DTSTART:20150319T213000Z
DTEND:20150319T233000Z
X-MICROSOFT-CDO-ALLDAYEVENT:FALSE
SUMMARY:BAH for Siouxland Y
DESCRIPTION:
X-ALT-DESC;FMTTYPE=text/html:
LOCATION:601 Riverview Drive\, South Sioux City\, Nebraska
UID:e.769.990
SEQUENCE:3
DTSTAMP:20260421T214511Z
URL:https://directory.siouxlandchamber.com/events/details/bah-for-siouxland-y-03-19-2015-990
END:VEVENT

END:VCALENDAR
