BEGIN:VCALENDAR
VERSION:2.0
PRODID:-//ChamberMaster//Event Calendar 2.0//EN
METHOD:PUBLISH
X-PUBLISHED-TTL:P3D
REFRESH-INTERVAL:P3D
CALSCALE:GREGORIAN
BEGIN:VEVENT
DTSTART:20150716T213000Z
DTEND:20150716T230000Z
X-MICROSOFT-CDO-ALLDAYEVENT:FALSE
SUMMARY:BAH at The Heritage at Northern Hills
DESCRIPTION:The July Business After Hours will be hosted by the Heritage at Northern Hills\, to celebrate the completion of their construction projects.
X-ALT-DESC;FMTTYPE=text/html:The July Business After Hours will be hosted by the Heritage at Northern Hills\, to celebrate the completion of their construction projects.
LOCATION:4000 Teton Trace
UID:e.769.994
SEQUENCE:3
DTSTAMP:20260421T143734Z
URL:https://directory.siouxlandchamber.com/events/details/bah-at-the-heritage-at-northern-hills-07-16-2015-994
END:VEVENT

END:VCALENDAR
