BEGIN:VCALENDAR
VERSION:2.0
PRODID:-//ChamberMaster//Event Calendar 2.0//EN
METHOD:PUBLISH
X-PUBLISHED-TTL:P3D
REFRESH-INTERVAL:P3D
CALSCALE:GREGORIAN
BEGIN:VEVENT
DTSTART:20200423T170000Z
DTEND:20200423T180000Z
X-MICROSOFT-CDO-ALLDAYEVENT:FALSE
SUMMARY:Amba Monthly Meeting-ZOOM
DESCRIPTION:April's Ambassador Monthly Meeting will be held over Zoom.  \n\n\n\nLogin info:\n\nTopic: AMBASSADOR MONTHLY  MEETING - April 23\,2020\n\nTime: Apr 23\, 2020 12:00 PM Central Time (US and Canada)\n\n\n\nJoin Zoom Meeting\n\nhttps://us04web.zoom.us/j/515874628 \, Meeting ID: 515 874 628
X-ALT-DESC;FMTTYPE=text/html:April&#39\;s Ambassador Monthly Meeting will be held over Zoom.&nbsp\;&nbsp\;<br />\n<br />\nLogin info:<br />\nTopic: AMBASSADOR MONTHLY&nbsp\; MEETING - April 23\,2020<br />\nTime: Apr 23\, 2020 12:00 PM Central Time (US and Canada)<br />\n<br />\nJoin Zoom Meeting<br />\n<a href="http://Topic: AMBASSADOR MONTHLY  MEETING - April 23\,2020 Time: Apr 23\, 2020 12:00 PM Central Time (US and Canada)  Join Zoom Meeting https://us04web.zoom.us/j/515874628  Meeting ID: 515 874 628">https://us04web.zoom.us/j/515874628&nbsp\;</a>\, Meeting ID: 515 874 628<br />\n
LOCATION:ZOOM: https://us04web.zoom.us/j/515874628 \, Meeting ID: 515 874 628
UID:e.769.597
SEQUENCE:3
DTSTAMP:20260421T194751Z
URL:https://directory.siouxlandchamber.com/events/details/amba-monthly-meeting-zoom-597
END:VEVENT

END:VCALENDAR
