BEGIN:VCALENDAR
VERSION:2.0
PRODID:-//ChamberMaster//Event Calendar 2.0//EN
METHOD:PUBLISH
X-PUBLISHED-TTL:P3D
REFRESH-INTERVAL:P3D
CALSCALE:GREGORIAN
BEGIN:VEVENT
DTSTART:20221222T180000Z
DTEND:20221222T190000Z
X-MICROSOFT-CDO-ALLDAYEVENT:FALSE
SUMMARY:Amba Monthly Meeting
DESCRIPTION:All Siouxland Chamber Ambassadors are invited to this month's meeting.
X-ALT-DESC;FMTTYPE=text/html:All Siouxland Chamber Ambassadors are invited to this month&#39\;s meeting.
LOCATION:.
UID:e.769.629
SEQUENCE:3
DTSTAMP:20260419T182711Z
URL:https://directory.siouxlandchamber.com/events/details/amba-monthly-meeting-12-22-2022-629
END:VEVENT

END:VCALENDAR
