BEGIN:VCALENDAR
VERSION:2.0
PRODID:-//ChamberMaster//Event Calendar 2.0//EN
METHOD:PUBLISH
X-PUBLISHED-TTL:P3D
REFRESH-INTERVAL:P3D
CALSCALE:GREGORIAN
BEGIN:VEVENT
DTSTART:20220915T170000Z
DTEND:20220915T180000Z
X-MICROSOFT-CDO-ALLDAYEVENT:FALSE
SUMMARY:Amba Monthly Meeting
DESCRIPTION:All Siouxland Chamber Ambassadors are invited to this month's meeting.
X-ALT-DESC;FMTTYPE=text/html:All Siouxland Chamber Ambassadors are invited to this month&#39\;s meeting.
LOCATION:.
UID:e.769.626
SEQUENCE:3
DTSTAMP:20260419T230534Z
URL:https://directory.siouxlandchamber.com/events/details/amba-monthly-meeting-09-22-2022-626
END:VEVENT

END:VCALENDAR
