BEGIN:VCALENDAR
VERSION:2.0
PRODID:-//ChamberMaster//Event Calendar 2.0//EN
METHOD:PUBLISH
X-PUBLISHED-TTL:P3D
REFRESH-INTERVAL:P3D
CALSCALE:GREGORIAN
BEGIN:VEVENT
DTSTART:20200318T170000Z
DTEND:20200318T180000Z
X-MICROSOFT-CDO-ALLDAYEVENT:FALSE
SUMMARY:Ag Meeting (CANCELLED)
DESCRIPTION:Learn more about the role the ISU-Woodbury County Extension office plays in the ag industry and how your employees and families can utilize classes and programs.
X-ALT-DESC;FMTTYPE=text/html:Learn more about the role the ISU-Woodbury County Extension office plays in the ag industry and how your employees and families can utilize classes and programs.
LOCATION:ISU Extension Office 4728 Southern Hills Dr Sioux City IA 51106
UID:e.769.5279
SEQUENCE:3
DTSTAMP:20260421T194559Z
URL:https://directory.siouxlandchamber.com/events/details/ag-meeting-cancelled-5279
END:VEVENT

END:VCALENDAR
