BEGIN:VCALENDAR
VERSION:2.0
PRODID:-//ChamberMaster//Event Calendar 2.0//EN
METHOD:PUBLISH
X-PUBLISHED-TTL:P3D
REFRESH-INTERVAL:P3D
CALSCALE:GREGORIAN
BEGIN:VEVENT
DTSTART:20180508T170000Z
DTEND:20180508T180000Z
X-MICROSOFT-CDO-ALLDAYEVENT:FALSE
SUMMARY:Ag Committee Meeting
DESCRIPTION:Join us for our first meeting where we'll discuss the structure and goals of the group\, review the meeting topic ideas shared by other members\, and develop an agenda for the quarterly meetings.
X-ALT-DESC;FMTTYPE=text/html:Join us for our first meeting where we&#39\;ll discuss the structure and goals of the group\, review the meeting topic&nbsp\;ideas shared by other members\, and develop an agenda for the quarterly meetings.&nbsp\;&nbsp\;&nbsp\;
LOCATION:Siouxland Chamber of Commerce 101 Pierce Street Sioux City IA 51101 **Lower Level Conference Room
UID:e.769.4706
SEQUENCE:3
DTSTAMP:20260420T145652Z
URL:https://directory.siouxlandchamber.com/events/details/ag-committee-meeting-4706
END:VEVENT

END:VCALENDAR
