BEGIN:VCALENDAR
VERSION:2.0
PRODID:-//ChamberMaster//Event Calendar 2.0//EN
METHOD:PUBLISH
X-PUBLISHED-TTL:P3D
REFRESH-INTERVAL:P3D
CALSCALE:GREGORIAN
BEGIN:VEVENT
DTSTART:20160504T233000Z
DTEND:20160505T003000Z
X-MICROSOFT-CDO-ALLDAYEVENT:FALSE
SUMMARY:9/11 Never Forget Memorial Exhibit Motorcade
DESCRIPTION:Hard Rock Hotel Sioux City will be hosting the 9/11 Never Forget Mobile Exhibit in Battery Park.  On May 4th the exhibit will leave at 6:30 pm from South Sioux City\, cross over the Veteran's Memorial Bridge\, and into downtown Sioux City where it will parked on display in Battery Park from May 5-11.\n\n\n\nPlease join the Siouxland Chamber Ambassadors on Water Street\, between 4th and 5th Streets\, to  show honor and welcome the exhibit.\n\n\n\nFor more information on the exhibit click here
X-ALT-DESC;FMTTYPE=text/html:<span style="color: rgb(44\, 44\, 44)\; font-family: Arial\, Helvetica\, sans-serif\; font-size: 13.3333px\; text-align: justify\;">Hard Rock Hotel Sioux City will be </span><span style="color: rgb(44\, 44\, 44)\; font-family: Arial\, Helvetica\, sans-serif\; font-size: 13.3333px\; text-align: justify\;">hosting&nbsp\;</span><span style="color: rgb(44\, 44\, 44)\; font-family: Arial\, Helvetica\, sans-serif\; font-size: 13.3333px\; text-align: justify\;">the</span><span style="color: rgb(44\, 44\, 44)\; font-family: Arial\, Helvetica\, sans-serif\; font-size: 13.3333px\; text-align: justify\;"> 9/11 Never Forget Mobile Exhibit in Battery Park. &nbsp\;On May 4th the exhibit will </span><span style="color: rgb(44\, 44\, 44)\; font-family: Arial\, Helvetica\, sans-serif\; font-size: 13.3333px\; text-align: justify\;">leave</span><span style="color: rgb(44\, 44\, 44)\; font-family: Arial\, Helvetica\, sans-serif\; font-size: 13.3333px\; text-align: justify\;"> at 6:30&nbsp\;pm from South Sioux City\, cross over the Veteran&rsquo\;s Memorial Bridge\, and into downtown Sioux City where it will parked on display in Battery Park from May 5-11.<br />\n<br />\nPlease join the Siouxland Chamber Ambassadors on Water Street\, between 4th and 5th Streets\, to &nbsp\;show honor and welcome the exhibit.<br />\n<br />\nFor more information on the exhibit <a href="https://sioux-city.org/press-releases/4225-911-never-forget-memorial-exhibit-coming-to-battery-park">click here</a></span>
LOCATION:Water Street\, between 3rd & 4th Streets Near the Hard Rock Hotel Sioux City
UID:e.769.3256
SEQUENCE:3
DTSTAMP:20260421T185537Z
URL:https://directory.siouxlandchamber.com/events/details/9-11-never-forget-memorial-exhibit-motorcade-05-04-2016-3256
END:VEVENT

END:VCALENDAR
