BEGIN:VCALENDAR
VERSION:2.0
PRODID:-//ChamberMaster//Event Calendar 2.0//EN
METHOD:PUBLISH
X-PUBLISHED-TTL:P3D
REFRESH-INTERVAL:P3D
CALSCALE:GREGORIAN
BEGIN:VEVENT
DTSTART:20230106T140000Z
DTEND:20230106T150000Z
X-MICROSOFT-CDO-ALLDAYEVENT:FALSE
SUMMARY:2023 Iowa Legislative Preview with Local Legislators
DESCRIPTION:Join us in person or via Zoom for the 2023 Siouxland Chamber Legislative Forum. A bipartisan panel of Siouxland legislators from the Iowa House and Senate will provide an overview of their agendas going into the 2023 session\, preview key issues likely to be taken up by the Iowa legislature\, and take your questions.  Please register to receive a confirmation email with the Zoom information.
X-ALT-DESC;FMTTYPE=text/html:<span style="line-height: 23.46px\; font-size: 15px\;">Join us in person or via Zoom for the 2023 Siouxland Chamber Legislative Forum. A bipartisan panel of&nbsp\;Siouxland legislators from the Iowa House and Senate will provide an overview&nbsp\;of their agendas going into the 2023 session\, preview key issues likely to be taken up by the Iowa legislature\, and take your questions.&nbsp\; Please register to receive a confirmation email with the Zoom information.&nbsp\;</span><br />\n<br />\n&nbsp\;
LOCATION:Siouxland Chamber of Commerce 101 Pierce St. Lower Level Conference Room
UID:e.769.5932
SEQUENCE:3
DTSTAMP:20260419T171049Z
URL:https://directory.siouxlandchamber.com/events/details/2023-iowa-legislative-preview-with-local-legislators-5932
END:VEVENT

END:VCALENDAR
