BEGIN:VCALENDAR
VERSION:2.0
PRODID:-//ChamberMaster//Event Calendar 2.0//EN
METHOD:PUBLISH
X-PUBLISHED-TTL:P3D
REFRESH-INTERVAL:P3D
CALSCALE:GREGORIAN
BEGIN:VEVENT
DTSTART:20180105T140000Z
DTEND:20180105T150000Z
X-MICROSOFT-CDO-ALLDAYEVENT:FALSE
SUMMARY:2018 Siouxland Legislative Forum
DESCRIPTION:Join us for the 2018 Siouxland Chamber Legislative Forum. A bi-partisan panel of Siouxland legislators from the Iowa House and Senate will provide an overview of their agendas going into the 2018 session\, preview key issues likely to be taken up by the Iowa legislature\, and take your questions.\n\n\n\nConfirmed legislators include:\n\nSen. Rick Bertrand\n\nSen. Jim Carlin\n\nRep. Chris Hall\n\nRep. Chuck Holz\n\nRep. Tim Kacena
X-ALT-DESC;FMTTYPE=text/html:<span style="font-family:arial\;">&nbsp\;</span>\n<div style="text-align:center\;"><font color="#000000" face="arial"><span style="font-size: 15px\; line-height: 23.466667175293px\;">Join us for the 2018 Siouxland Chamber Legislative Forum. A bi-partisan panel of&nbsp\;Siouxland legislators from the Iowa House and Senate will provide an overview&nbsp\;of their agendas going into the 2018&nbsp\;session\, preview key issues likely to be taken up by the Iowa legislature\, and take your questions.<br />\n<br />\nConfirmed legislators include:<br />\nSen. Rick Bertrand<br />\nSen. Jim Carlin<br />\nRep. Chris Hall<br />\nRep. Chuck Holz<br />\nRep. Tim Kacena</span></font></div>\n
LOCATION:Long Lines Family Rec Center 3rd Floor Conference Room
UID:e.769.4616
SEQUENCE:3
DTSTAMP:20260420T092436Z
URL:https://directory.siouxlandchamber.com/events/details/2018-siouxland-legislative-forum-4616
END:VEVENT

END:VCALENDAR
