BEGIN:VCALENDAR
VERSION:2.0
PRODID:-//ChamberMaster//Event Calendar 2.0//EN
METHOD:PUBLISH
X-PUBLISHED-TTL:P3D
REFRESH-INTERVAL:P3D
CALSCALE:GREGORIAN
BEGIN:VEVENT
DTSTART;VALUE=DATE:20180131
DTEND;VALUE=DATE:20180201
TRANSP:TRANSPARENT
X-MICROSOFT-CDO-ALLDAYEVENT:TRUE
SUMMARY:2018 Des Moines Legislative Day (42nd)
DESCRIPTION:Join us for a busy day of meetings with leaders in Iowa state government at the 42nd Annual Des Moines Day trip. This year's session will definitely be one to watch\, and Des Moines Day is your chance to talk directly with the people making it happen.\n\n\n\nHighlights for this year include:\n\n\n	Meeting with Gov. Reynolds and Lt. Governor Gregg\n	Tax reform discussion with Sen. Randy Feenstra & Rep. Dave Jacoby\n	Meetings with new Senate Minority Leader Janet Petersen\, Senate Majority Leader Bill Dix\, Speaker Linda Upmeyer\, and House Minority Leader Mark Smith.\n	Lunch program included.\n	Special invitation to the Iowa Chamber Alliance Legislative Reception at Exile Brewing Company included.\n\n\n\nItinerary\n\n\n\n6:00 a.m. - Meet in the Long Lines Family Rec Center parking lot\n\n6:15 a.m. - Depart for Des Moines\n\n9:30 a.m. - Meeting with Governor Kim Reynolds and Lt. Governor Adam Gregg.\n\n10:15 a.m. -- Meeting with Speaker Linda Upmeyer and House Majority Leader Chris Hagenow\n\n 10:45 a.m. - Special policy discussion on tax reform with Senate Ways & Means Committee Chair Sen. Randy Feenstra & House Ways & Means Ranking Minority Member Rep. Dave Jacoby.\n\n11:15 a.m. -- Individual lobbying\n\n12:15 p.m. -- Lunch program (TBD) at the Cub Club at Principal Park\n\n2:15 p.m. - Meeting with House Minority Leader Mark Smith\n\n3:15 p.m. -- Meeting with Senate Majority Leader Bill Dix and Senate President Jack Whitver\n\n3:45 p.m. -- Meetings with Senate Minority Leader Janet Petersen\n\n5:00 p.m. -- Iowa Chamber Alliance Reception (Exile Brewing Company)\n\n6:00 p.m. - Return to Sioux City
X-ALT-DESC;FMTTYPE=text/html:<p>Join us for a busy day of meetings with leaders in Iowa state government at the 42nd&nbsp\;Annual Des Moines Day trip. This year&#39\;s session will definitely be one to watch\, and&nbsp\;Des Moines Day is your chance to talk directly with the people making it happen.<br />\n<br />\nHighlights for this year include:</p>\n\n<ul>\n	<li>Meeting with Gov. Reynolds&nbsp\;and Lt. Governor Gregg</li>\n	<li>Tax reform discussion with Sen. Randy Feenstra&nbsp\;&amp\; Rep. Dave Jacoby</li>\n	<li>Meetings with new Senate Minority Leader Janet Petersen\,&nbsp\;Senate Majority Leader Bill Dix\, Speaker Linda Upmeyer\, and House Minority Leader Mark Smith.</li>\n	<li>Lunch program included.</li>\n	<li>Special invitation to the Iowa Chamber Alliance Legislative Reception at Exile Brewing Company included.</li>\n</ul>\n<br />\n<span style="font-family: arial\,sans-serif\;"><span style="font-size: 9pt\;"><strong><u>Itinerary</u></strong><br />\n<br />\n<strong>6:00 a.m.</strong> - Meet in the Long Lines Family Rec Center parking lot<br />\n<strong>6:15 a.m.</strong> - Depart for Des Moines</span></span><br />\n<strong style="font-family: arial\, sans-serif\; font-size: 12px\;">9:30 a.m.</strong><span style="font-family: arial\, sans-serif\; font-size: 12px\;">&nbsp\;- Meeting with Governor Kim Reynolds and Lt. Governor Adam Gregg.</span><br />\n<span style="font-family: arial\,sans-serif\;"><span style="font-size: 9pt\;"><strong>10:15 a.m.</strong> -- Meeting with Speaker Linda Upmeyer and House Majority Leader Chris Hagenow<br />\n&#8203\;<strong>10:45</strong></span></span><span style="font-family: arial\,sans-serif\;"><span style="font-size: 9pt\;"><strong>&nbsp\;</strong>a.</span></span><strong style="font-family: arial\, sans-serif\; font-size: 12px\;">m.</strong><strong style="font-family: arial\, sans-serif\; font-size: 12px\;">&nbsp\;</strong><span style="font-family: arial\, sans-serif\; font-size: 12px\;">- Special policy discussion on tax reform with Senate Ways &amp\; Means Committee Chair Sen. Randy Feenstra&nbsp\;&amp\; House Ways &amp\; Means Ranking Minority Member Rep. Dave Jacoby.</span><br />\n<strong style="font-family: arial\, sans-serif\; font-size: 12px\;">11:15 a.m.</strong><span style="font-family: arial\, sans-serif\; font-size: 12px\;">&nbsp\;-- Individual lobbying</span><br />\n<strong style="font-family: arial\, sans-serif\; font-size: 12px\;">12:15 p.m.</strong><span style="font-family: arial\, sans-serif\; font-size: 12px\;">&nbsp\;-- Lunch program (TBD) at the Cub Club at Principal Park</span><br />\n<span style="font-family: arial\,sans-serif\;"><span style="font-size: 9pt\;"><strong>2:15 p.m.</strong> - Meeting with House Minority Leader Mark Smith</span></span><br />\n<strong style="font-family: arial\, sans-serif\; font-size: 12px\;">3:15 p.m.</strong><span style="font-family: arial\, sans-serif\; font-size: 12px\;">&nbsp\;-- Meeting with Senate Majority Leader Bill Dix and Senate President Jack&nbsp\;</span>Whitver<br />\n<strong style="font-family: arial\, sans-serif\; font-size: 12px\;">3:45 p.m.</strong><span style="font-family: arial\, sans-serif\; font-size: 12px\;">&nbsp\;-- Meetings with Senate Minority Leader Janet Petersen</span><br />\n<span style="font-family: arial\,sans-serif\;"><span style="font-size: 9pt\;"><strong>5:00 p.m.</strong> -- Iowa Chamber Alliance Reception (Exile Brewing Company)<br />\n<strong>6:00 p.m.</strong> - Return to Sioux City</span></span>
LOCATION:
UID:e.769.4627
SEQUENCE:3
DTSTAMP:20260420T092501Z
URL:https://directory.siouxlandchamber.com/events/details/2018-des-moines-legislative-day-42nd-4627
END:VEVENT

END:VCALENDAR
