BEGIN:VCALENDAR
VERSION:2.0
PRODID:-//ChamberMaster//Event Calendar 2.0//EN
METHOD:PUBLISH
X-PUBLISHED-TTL:P3D
REFRESH-INTERVAL:P3D
CALSCALE:GREGORIAN
BEGIN:VEVENT
DTSTART:20160929T210000Z
DTEND:20160929T220000Z
X-MICROSOFT-CDO-ALLDAYEVENT:FALSE
SUMMARY:2016 South Dakota District 16 Candidate Forum
DESCRIPTION:2016 South Dakota District 16 Candidate Forum\n\nThursday\, September 29\, 2016\n\n4:00 p.m.\n\nNorth Sioux City Hall\n\n504 River Drive\n\nNorth Sioux City\, South Dakota\n\n \n\nSenate Candidates\n\nJim Bolin (R)   Canton\n\nChad Skiles (D)   Canton\n\n \n\nHouse Candidates\n\nDavid Anderson (R)   Hudson\n\nTed Curry (D)   Elk Point\n\nKevin Jensen (R)   Canton\n\nAnn Tornberg (D)   Beresford
X-ALT-DESC;FMTTYPE=text/html:<strong><span style="font-size:16.0pt\;">2016 South Dakota District 16 Candidate Forum</span></strong><br />\n<span style="font-size:14.0pt\;">Thursday\, September 29\, 2016<br />\n4:00 p.m.<br />\nNorth Sioux City Hall</span><br />\n<span style="font-size:14.0pt\;">504 River Drive</span><br />\n<span style="font-size:14.0pt\;">North Sioux City\, South Dakota</span><br />\n&nbsp\;<br />\n<strong><u><span style="font-size:14.0pt\;">Senate Candidates</span></u></strong><br />\n<span style="font-size:14.0pt\;">Jim Bolin (R) &ndash\; Canton</span><br />\n<span style="font-size:14.0pt\;">Chad Skiles (D) &ndash\; Canton</span><br />\n&nbsp\;<br />\n<strong><u><span style="font-size:14.0pt\;">House Candidates</span></u></strong><br />\n<span style="font-size:14.0pt\;">David Anderson (R) &ndash\; Hudson<br />\nTed Curry (D) &ndash\; Elk Point</span><br />\n<span style="font-size:14.0pt\;">Kevin Jensen (R) &ndash\; Canton<br />\nAnn Tornberg (D) </span><span style="color: rgb(51\, 51\, 51)\; font-family: sans-serif\, Arial\, Verdana\, &quot\;Trebuchet MS&quot\;\; font-size: 18.6667px\; line-height: 29.8667px\; background-color: rgb(255\, 255\, 255)\;">&ndash\;</span><span style="font-size:14.0pt\;"> Beresford</span>
LOCATION:North Sioux City Hall 504 River Drive North Sioux City\, South Dakota
UID:e.769.3344
SEQUENCE:3
DTSTAMP:20260421T130251Z
URL:https://directory.siouxlandchamber.com/events/details/2016-south-dakota-district-16-candidate-forum-3344
END:VEVENT

END:VCALENDAR
