BEGIN:VCALENDAR
VERSION:2.0
PRODID:-//ChamberMaster//Event Calendar 2.0//EN
METHOD:PUBLISH
X-PUBLISHED-TTL:P3D
REFRESH-INTERVAL:P3D
CALSCALE:GREGORIAN
BEGIN:VEVENT
DTSTART:20160209T180000Z
DTEND:20160210T210000Z
X-MICROSOFT-CDO-ALLDAYEVENT:FALSE
SUMMARY:2016 Pierre Legislative Days
DESCRIPTION:The 2016 South Dakota Legislature will discuss many issues that could impact your business.  Take advantage of this opportunity.\n\n\n\nA block of rooms has been reserved for the night of February 9\, 2016 at the ClubHouse Hotel & Suites for our group at the rate of $129.00 (Queen/Queen) plus tax.  To use the block of rooms call for your reservation (605.494.2582) stating you are with the Dakota Valley Business Council by January 8\, 2016.
X-ALT-DESC;FMTTYPE=text/html:The 2016 South Dakota Legislature will discuss many issues that could impact your business. &nbsp\;Take advantage of this opportunity.<br />\n<br />\nA block of rooms has been reserved for the night of February 9\, 2016 at the ClubHouse&nbsp\;Hotel &amp\; Suites for our group at the rate of $129.00 (Queen/Queen) plus tax. &nbsp\;To use the block of rooms call for your reservation (605.494.2582) stating you are with the Dakota Valley Business Council by January 8\, 2016.
LOCATION:
UID:e.769.2191
SEQUENCE:3
DTSTAMP:20260421T173731Z
URL:https://directory.siouxlandchamber.com/events/details/2016-pierre-legislative-days-02-09-2016-2191
END:VEVENT

END:VCALENDAR
