BEGIN:VCALENDAR
VERSION:2.0
PRODID:-//ChamberMaster//Event Calendar 2.0//EN
METHOD:PUBLISH
X-PUBLISHED-TTL:P3D
REFRESH-INTERVAL:P3D
CALSCALE:GREGORIAN
BEGIN:VEVENT
DTSTART:20160518T130000Z
DTEND:20160518T140000Z
X-MICROSOFT-CDO-ALLDAYEVENT:FALSE
SUMMARY:2016 Legislative Wrap-up
DESCRIPTION:The 2016 Iowa legislative session is now in the books\, and it's time to look back on a productive\, eventful session. Join us as a panel of Siouxland legislators\, moderated by the Chamber government relations committee chair\, offer their analysis of the session and what it means for our region.
X-ALT-DESC;FMTTYPE=text/html:The 2016&nbsp\;Iowa legislative session is now in the books\, and it&#39\;s time to look back on a productive\, eventful session. Join us as a panel of Siouxland&nbsp\;legislators\, moderated by the Chamber government relations committee chair\, offer their analysis of the session and what it means for our region.
LOCATION:Siouxland Chamber of Commerce 101 Pierce Street Sioux City\, IA
UID:e.769.3266
SEQUENCE:3
DTSTAMP:20260421T173711Z
URL:https://directory.siouxlandchamber.com/events/details/2016-legislative-wrap-up-05-18-2016-3266
END:VEVENT

END:VCALENDAR
