BEGIN:VCALENDAR
VERSION:2.0
PRODID:-//ChamberMaster//Event Calendar 2.0//EN
METHOD:PUBLISH
X-PUBLISHED-TTL:P3D
REFRESH-INTERVAL:P3D
CALSCALE:GREGORIAN
BEGIN:VEVENT
DTSTART:20160923T130000Z
DTEND:20160923T140000Z
X-MICROSOFT-CDO-ALLDAYEVENT:FALSE
SUMMARY:2016 Iowa Legislative Candidate Forum
DESCRIPTION:Join us for an in-depth conversation with candidates for the Iowa Legislature\, hosted by the Siouxland Chamber Government Relations Committee. Moderated by committee chair Linda Kalin\, the Candidate Forum will be an excellent opportunity for Chamber members to hear from the candidates on issues important to the Siouxland Chamber of Commerce. Topics will be timely and important\, and there will be plenty of opportunities for members to engage the candidates through Q&A during this interactive forum.\n\n\n\nCandidates for House seats in Districts 6\, 13\, and 14 will participate in this panel discussion format. \n\n\n\nNOTE: The Candidate Forum will begin at 8:00am
X-ALT-DESC;FMTTYPE=text/html:Join us for an in-depth conversation with candidates for the Iowa Legislature\, hosted by the Siouxland Chamber Government Relations Committee. Moderated by committee chair Linda Kalin\, the Candidate Forum will be an excellent opportunity for Chamber members to hear from the candidates on issues important to the Siouxland Chamber of Commerce. Topics will be timely and important\, and there will be plenty of opportunities for members to engage the candidates through Q&amp\;A during this interactive forum.<br />\n<br />\nCandidates for House seats in Districts 6\, 13\, and 14 will participate in this panel discussion format.&nbsp\;<br />\n<br />\n<em>NOTE: The Candidate Forum will begin at 8:00am</em>
LOCATION:Siouxland Chamber of Commerce 101 Pierce Street Sioux City\, IA
UID:e.769.3341
SEQUENCE:3
DTSTAMP:20260421T043839Z
URL:https://directory.siouxlandchamber.com/events/details/2016-iowa-legislative-candidate-forum-3341
END:VEVENT

END:VCALENDAR
