BEGIN:VCALENDAR
VERSION:2.0
PRODID:-//ChamberMaster//Event Calendar 2.0//EN
METHOD:PUBLISH
X-PUBLISHED-TTL:P3D
REFRESH-INTERVAL:P3D
CALSCALE:GREGORIAN
BEGIN:VEVENT
DTSTART;VALUE=DATE:20160127
DTEND;VALUE=DATE:20160128
TRANSP:TRANSPARENT
X-MICROSOFT-CDO-ALLDAYEVENT:TRUE
SUMMARY:2016 Des Moines Legislative Day (40th)
DESCRIPTION:Take advantage of this opportunity to meet with Governor Branstad and Lt. Governor Reynolds\, House and Senate leadership\, and members of your local legislative delegation. New this year: lunch at Principal Park (home of the Iowa Cubs) with Beth Townsend\, Director of Iowa Workforce Development\, and a beautiful view of left field. Join us for a fun and informative day in the heart of the action in Des Moines.\n\n\n\nAlso new this year: attendees are cordially invited to wind down a busy day at the Iowa Chamber Alliance Legislative Reception\, 5pm - 7pm at the Des Moines Social Club.\n\n\n\n\n\nTENTATIVE ITINERARY\n\nWednesday\, January 27\, 2016\n\n\n \n\n6:30 a.m. \n\nGather for carpooling in the Long Lines Family Rec Center parking lot just south of the Chamber of Commerce office\n\n \n\n10:00 a.m.\n\nArrive at the Capitol\n\n \n\n10:15 a.m. \n\nMeeting TBA\n\n\n\n11:00 a.m.\n\nSen. Bill Dix\, Senate Minority Leader\n\nSen. Dix's Office\n\n \n\n11:45 a.m.\n\nLunch with Guest Speaker Beth Townsend\, Director of Iowa Workforce Development\n\nCub Club at Principal Park\n\n \n\n1:30 p.m. \n\nMeeting with Governor Terry Branstad & Lt. Governor Kim Reynolds\n\nCapitol\, Ray Conference Rm. G-09\n\n\n\n2:15 p.m.\n\nSen. Mike Gronstal\, Senate Majority Leader & Sen. Pam Jochum\, Senate President\n\nSen. Gronstal's Office\n\n\n\n3:00 p.m.\n\nRep. Mark Smith\, House Minority Leader\n\nRep. Smith's Office\n\n\n\n3:30 p.m.\n\nRep. Linda Upmeyer\, Speaker of the House & House Majority Leader Chris Hagenow.\n\nSpeaker's Office\n\n \n\n5:00 p.m. - 7:00 p.m.\n\nIowa Chamber Alliance Legislative Reception\n\nDes Moines Social Club\n\n900 Mulberry Street\, Des Moines\, IA
X-ALT-DESC;FMTTYPE=text/html:<p><br />\nTake advantage of this opportunity to meet with Governor Branstad and Lt. Governor Reynolds\, House and Senate leadership\, and members of your local legislative delegation. New this year: lunch at Principal Park (home of the Iowa Cubs) with Beth Townsend\, Director of Iowa Workforce Development\, and a beautiful view of left field.&nbsp\;Join us for a fun and informative day in the heart of the action in Des Moines.<br />\n<br />\nAlso new this year: attendees are cordially invited to wind down a busy day at the Iowa Chamber Alliance Legislative Reception\, 5pm - 7pm at the Des Moines Social Club.<br />\n<br />\n<br />\n<span style="font-size: 12px\;"><span style="font-family: arial\;">TENTATIVE ITINERARY<br />\nWednesday\, January 27\, 2016</span></span></p>\n\n<div>\n<p style=""><span style="line-height: 20.8px\; font-size: 12px\;"><span style="font-family: arial\;">&nbsp\;<br />\n<strong>6:30 a.m.&nbsp\;</strong><br />\nGather for carpooling in the Long Lines Family Rec Center parking lot just south of the Chamber of Commerce office<br />\n&nbsp\;<br />\n<strong>10:00&nbsp\;a.m.</strong><br />\nArrive at the Capitol<br />\n&nbsp\;</span></span><br />\n<strong style="line-height: 19.2px\; font-family: arial\; font-size: 12px\;">10:15&nbsp\;a.m.&nbsp\;</strong><br style="font-family: arial\; font-size: 12px\; line-height: 19.2px\;" />\n<font face="arial"><span style="font-size: 12px\; line-height: 19.2px\;">Meeting TBA</span></font><br />\n<br />\n<strong>11:00 a.m.</strong><br style="font-family: arial\; font-size: 12px\; line-height: 20.8px\;" />\n<span style="font-family: arial\; font-size: 12px\; line-height: 20.8px\;">Sen. Bill Dix\, Senate Minority Leader</span><br style="font-family: arial\; font-size: 12px\; line-height: 20.8px\;" />\n<em style="font-family: arial\; font-size: 12px\; line-height: 20.8px\;">Sen. Dix&#39\;s Office</em><br />\n<span style="line-height: 20.8px\; font-size: 12px\;"><span style="font-family: arial\;">&nbsp\;<br />\n<strong>11:45&nbsp\;a.m.</strong><br />\nLunch with Guest Speaker Beth Townsend\, Director of Iowa Workforce Development<br />\n<i>Cub Club at Principal Park</i><br />\n&nbsp\;</span></span><br />\n<strong style="font-family: arial\; font-size: 12px\; line-height: 20.8px\;">1:30&nbsp\;p.m.&nbsp\;</strong><br style="font-family: arial\; font-size: 12px\; line-height: 20.8px\;" />\n<span style="font-family: arial\; font-size: 12px\; line-height: 20.8px\;">Meeting with Governor Terry&nbsp\;</span>Branstad<span style="font-family: arial\; font-size: 12px\; line-height: 20.8px\;">&nbsp\;&amp\; Lt. Governor Kim Reynolds</span><br style="font-family: arial\; font-size: 12px\; line-height: 20.8px\;" />\n<em style="font-family: arial\; font-size: 12px\; line-height: 20.8px\;">Capitol\, Ray Conference Rm. G-09</em><br />\n<br />\n<strong style="line-height: 19.2px\; font-family: arial\; font-size: 12px\;">2:15 p.m.</strong><br style="font-family: arial\; font-size: 12px\; line-height: 19.2px\;" />\n<span style="line-height: 19.2px\; font-family: arial\; font-size: 12px\;">Sen. Mike&nbsp\;</span>Gronstal<span style="line-height: 19.2px\; font-family: arial\; font-size: 12px\;">\, Senate Majority Leader &amp\; Sen. Pam&nbsp\;Jochum\, Senate President</span><br style="font-family: arial\; font-size: 12px\; line-height: 19.2px\;" />\n<em style="line-height: 19.2px\; font-family: arial\; font-size: 12px\;">Sen. Gronstal&rsquo\;s Office</em><br />\n<br />\n<strong style="font-family: arial\; font-size: 12px\; line-height: 20.8px\;">3:00 p.m.</strong><br style="font-family: arial\; font-size: 12px\; line-height: 20.8px\;" />\n<span style="font-family: arial\; font-size: 12px\; line-height: 20.8px\;">Rep. Mark Smith\, House Minority Leader</span><br style="font-family: arial\; font-size: 12px\; line-height: 20.8px\;" />\n<em style="font-family: arial\; font-size: 12px\; line-height: 20.8px\;">Rep. Smith&rsquo\;s Office</em><br />\n<br />\n<span style="line-height: 20.8px\; font-size: 12px\;"><span style="font-family: arial\;"><strong>3:30 p.m.</strong><br />\nRep. Linda Upmeyer\, Speaker of the House &amp\; House Majority Leader Chris Hagenow.<br />\n<em>Speaker&rsquo\;s Office</em><br />\n&nbsp\;</span></span><br />\n<span style="line-height: 20.8px\; font-size: 12px\;"><span style="font-family: arial\;"><strong>5:00&nbsp\;p.m. - 7:00 p.m.</strong><br />\nIowa Chamber Alliance Legislative Reception<br />\n<em>Des Moines Social Club<br />\n900 Mulberry Street\, Des Moines\, IA</em></span></span></p>\n</div>\n\n<p>&nbsp\;</p>\n\n<p style="text-align: center\;"><br />\n&nbsp\;</p>\n
LOCATION:
UID:e.769.2205
SEQUENCE:3
DTSTAMP:20260421T155650Z
URL:https://directory.siouxlandchamber.com/events/details/2016-des-moines-legislative-day-40th-01-27-2016-2205
END:VEVENT

END:VCALENDAR
