BEGIN:VCALENDAR
VERSION:2.0
PRODID:-//ChamberMaster//Event Calendar 2.0//EN
METHOD:PUBLISH
X-PUBLISHED-TTL:P3D
REFRESH-INTERVAL:P3D
CALSCALE:GREGORIAN
BEGIN:VEVENT
DTSTART:20150626T120000Z
DTEND:20150626T130000Z
X-MICROSOFT-CDO-ALLDAYEVENT:FALSE
SUMMARY:2015 Legislative Wrap-up
DESCRIPTION:The 2015 Iowa legislative session is now in the books\, and it's time to look back on a long\, eventful session. Join us as a panel of Siouxland legislators\, moderated by the Chamber government relations committee chair\, offer their analysis of the session and what it means for our region.
X-ALT-DESC;FMTTYPE=text/html:The 2015 Iowa legislative session is now in the books\, and it&#39\;s time to look back on a long\, eventful session. Join us as a panel of Siouxland&nbsp\;legislators\, moderated by the Chamber government relations committee chair\, offer their analysis of the session and what it means for our region.
LOCATION:Siouxland Chamber of Commerce 101 Pierce Street Sioux City\, IA
UID:e.769.2133
SEQUENCE:3
DTSTAMP:20260421T160552Z
URL:https://directory.siouxlandchamber.com/events/details/2015-legislative-wrap-up-06-26-2015-2133
END:VEVENT

END:VCALENDAR
