BEGIN:VCALENDAR
VERSION:2.0
PRODID:-//ChamberMaster//Event Calendar 2.0//EN
METHOD:PUBLISH
X-PUBLISHED-TTL:P3D
REFRESH-INTERVAL:P3D
CALSCALE:GREGORIAN
BEGIN:VEVENT
DTSTART;VALUE=DATE:20150203
DTEND;VALUE=DATE:20150204
TRANSP:TRANSPARENT
X-MICROSOFT-CDO-ALLDAYEVENT:TRUE
SUMMARY:2015 Des Moines Legislative Day (39th)
DESCRIPTION:The 39th annual Chamber Des Moines Legislative Day is February 3rd.  The 2015 Iowa Legislature is in full swing\, debating issues and policies that affect your business. Take advantage of this opportunity to meet with Governor Branstad and Lt. Governor Reynolds\, House and Senate leadership\, and members of your local legislative delegation. You will also have an opportunity to hear from Iowa Department of Management Director David Roederer and during a special meeting with the Siouxland delegation. Finally\, Iowa Chamber Alliance executive director and friend of the Siouxland Chamber John Stineman will be our lunch key note speaker at the Court Avenue Brewing Company. Join us for a fun and informative day in the heart of the action in Des Moines.\n\n \n\nTENTATIVE ITINERARY\n\nTuesday\, February 3\, 2015\n\n \n\n6:30 a.m. \n\nGather for carpooling in the Long Lines Family Rec Center parking lot just south of the Chamber of Commerce office\n\n \n\n10:00 a.m.\n\nArrive at the Capitol\n\n \n\n10:30 a.m. \n\nMeeting with David Roederer\, Director\, Iowa Department of Management\n\nCapitol\, Ray Conference Rm. G-09\n\n\n\n11:00 a.m. \n\nMeeting with Governor Terry Branstad & Lt. Governor Kim Reynolds\n\nCapitol\, Ray Conference Rm. G-09\n\n \n\n12:00 p.m.\n\nLunch with Guest Speaker John Stineman\, Executive Director\,\n\nIowa Chamber Alliance\n\nCourt Avenue Restaurant & Brewing Co.\, 309 Court Avenue\n\n \n\n2:00 p.m.\n\nRep. Kraig Paulsen\, Speaker of the House & Rep. Linda Upmeyer\, House Majority Leader\n\nSpeaker's Office\n\n \n\n2:30 p.m.\n\nRep. Mark Smith\, House Minority Leader\n\nRep. Smith's Office\n\n \n\n3:00 p.m.\n\nSen. Mike Gronstal\, Senate Majority Leader & Sen. Pam Jochum\, Senate President\n\nSen. Gronstal's Office\n\n\n\n3:30 p.m.\n\nSen. Bill Dix\, Senate Minority Leader\n\nSen. Dix's Office\n\n \n\n4:15 p.m.\n\nDepart for Sioux City from Capitol
X-ALT-DESC;FMTTYPE=text/html:<p><br />\nThe 39<sup>th</sup> annual Chamber Des Moines Legislative Day is February 3rd.&nbsp\;&nbsp\;The 2015&nbsp\;Iowa Legislature is in full swing\, debating issues and policies that affect your business. Take advantage of this opportunity to meet with Governor Branstad and Lt. Governor Reynolds\, House and Senate leadership\, and members of your local legislative delegation. You will also have an opportunity to hear from Iowa Department of Management&nbsp\;Director David Roederer&nbsp\;and&nbsp\;during a special meeting with the Siouxland&nbsp\;delegation. Finally\, Iowa Chamber Alliance executive director and friend of the Siouxland Chamber John Stineman&nbsp\;will be our lunch key note speaker at the Court Avenue Brewing Company. Join us for a fun and informative day in the heart of the action in Des Moines.<br />\n&nbsp\;</p>\n\n<p><span style="font-size: 12px\;"><span style="font-family: arial\;">TENTATIVE ITINERARY<br />\nTuesday\, February 3\, 2015</span></span></p>\n\n<p><span style="font-size: 12px\;"><span style="font-family: arial\;">&nbsp\;<br />\n<strong>6:30 a.m. </strong><br />\nGather for carpooling in the Long Lines Family Rec Center parking lot just south of the Chamber of Commerce office<br />\n&nbsp\;<br />\n<strong>10:00 a.m.</strong><br />\nArrive at the Capitol<br />\n&nbsp\;</span></span><br />\n<strong style="font-family: arial\; font-size: 12px\; line-height: 19.2000007629395px\;">10:30 a.m.&nbsp\;</strong><br style="font-family: arial\; font-size: 12px\; line-height: 19.2000007629395px\;" />\n<span style="font-family: arial\; font-size: 12px\; line-height: 19.2000007629395px\;">Meeting with David Roederer\, Director\, Iowa Department of Management</span><br style="font-family: arial\; font-size: 12px\; line-height: 19.2000007629395px\;" />\n<em style="font-family: arial\; font-size: 12px\; line-height: 19.2000007629395px\;">Capitol\, Ray Conference Rm. G-09</em><br />\n<br />\n<span style="font-size: 12px\;"><span style="font-family: arial\;"><strong>11:00 a.m. </strong><br />\nMeeting with Governor Terry Branstad &amp\; Lt. Governor Kim Reynolds<br />\n<em>Capitol\, Ray Conference Rm. G-09</em><br />\n&nbsp\;<br />\n<strong>12:00 p.m.</strong><br />\nLunch with Guest Speaker John Stineman\,&nbsp\;Executive&nbsp\;Director\,<br />\nIowa Chamber Alliance<br />\n<em>Court Avenue Restaurant &amp\; Brewing Co.\, 309 Court Avenue</em><br />\n&nbsp\;<br />\n<strong>2:00 p.m.</strong><br />\nRep. Kraig Paulsen\, Speaker of the House &amp\; Rep.&nbsp\;Linda Upmeyer\, House Majority Leader<br />\n<em>Speaker&rsquo\;s Office</em><br />\n&nbsp\;<br />\n<strong>2:30 p.m.</strong><br />\nRep. Mark Smith\, House Minority Leader<br />\n<em>Rep. Smith&rsquo\;s Office</em><br />\n&nbsp\;</span></span><br />\n<strong style="font-family: arial\; font-size: 12px\; line-height: 19.2000007629395px\;">3:00 p.m.</strong><br style="font-family: arial\; font-size: 12px\; line-height: 19.2000007629395px\;" />\n<span style="font-family: arial\; font-size: 12px\; line-height: 19.2000007629395px\;">Sen. Mike&nbsp\;</span>Gronstal<span style="font-family: arial\; font-size: 12px\; line-height: 19.2000007629395px\;">\, Senate Majority Leader &amp\; Sen. Pam Jochum\, Senate President</span><br style="font-family: arial\; font-size: 12px\; line-height: 19.2000007629395px\;" />\n<em style="font-family: arial\; font-size: 12px\; line-height: 19.2000007629395px\;">Sen. Gronstal&rsquo\;s Office</em><br />\n<br />\n<span style="font-size: 12px\;"><span style="font-family: arial\;"><strong>3:30 p.m.</strong><br />\nSen. Bill Dix\, Senate Minority Leader<br />\n<em>Sen. Dix&#39\;s Office</em><br />\n&nbsp\;<br />\n<strong>4:15 p.m.</strong><br />\nDepart for Sioux City from Capitol</span></span></p>\n\n<p style="text-align: center\;"><br />\n&nbsp\;</p>\n
LOCATION:
UID:e.769.2081
SEQUENCE:3
DTSTAMP:20260421T214407Z
URL:https://directory.siouxlandchamber.com/events/details/2015-des-moines-legislative-day-39th-02-03-2015-2081
END:VEVENT

END:VCALENDAR
